BEGIN:VCALENDAR
VERSION:2.0
PRODID:-//Feuerwehr Hohenaverbergen - ECPv6.15.20//NONSGML v1.0//EN
CALSCALE:GREGORIAN
METHOD:PUBLISH
X-ORIGINAL-URL:https://feuerwehr-hohen.de
X-WR-CALDESC:Veranstaltungen für Feuerwehr Hohenaverbergen
REFRESH-INTERVAL;VALUE=DURATION:PT1H
X-Robots-Tag:noindex
X-PUBLISHED-TTL:PT1H
BEGIN:VTIMEZONE
TZID:Europe/Berlin
BEGIN:DAYLIGHT
TZOFFSETFROM:+0100
TZOFFSETTO:+0200
TZNAME:CEST
DTSTART:20240331T010000
END:DAYLIGHT
BEGIN:STANDARD
TZOFFSETFROM:+0200
TZOFFSETTO:+0100
TZNAME:CET
DTSTART:20241027T010000
END:STANDARD
BEGIN:DAYLIGHT
TZOFFSETFROM:+0100
TZOFFSETTO:+0200
TZNAME:CEST
DTSTART:20250330T010000
END:DAYLIGHT
BEGIN:STANDARD
TZOFFSETFROM:+0200
TZOFFSETTO:+0100
TZNAME:CET
DTSTART:20251026T010000
END:STANDARD
BEGIN:DAYLIGHT
TZOFFSETFROM:+0100
TZOFFSETTO:+0200
TZNAME:CEST
DTSTART:20260329T010000
END:DAYLIGHT
BEGIN:STANDARD
TZOFFSETFROM:+0200
TZOFFSETTO:+0100
TZNAME:CET
DTSTART:20261025T010000
END:STANDARD
END:VTIMEZONE
BEGIN:VEVENT
DTSTART;TZID=Europe/Berlin:20251102T093000
DTEND;TZID=Europe/Berlin:20251102T110000
DTSTAMP:20260420T124133
CREATED:20250515T172318Z
LAST-MODIFIED:20250515T172318Z
UID:1791-1762075800-1762081200@feuerwehr-hohen.de
SUMMARY:Übungsdienst Einsatzabteilung
DESCRIPTION:Die gesamte Einsatzabteilung trifft sich zum Dienst am Feuerwehrhaus im Scheperdrift 1\, Start ist um 9:30 Uhr
URL:https://feuerwehr-hohen.de/event/uebungsdienst-6/
LOCATION:Feuerwehrhaus Hohenaverbergen\, Scheperdrift\, Hohenaverbergen\, Niedersachsen\, 27308\, Deutschland
CATEGORIES:Einsatzabteilung
END:VEVENT
BEGIN:VEVENT
DTSTART;TZID=Europe/Berlin:20251108T090000
DTEND;TZID=Europe/Berlin:20251108T090000
DTSTAMP:20260420T124133
CREATED:20251014T155624Z
LAST-MODIFIED:20251014T155624Z
UID:2661-1762592400-1762592400@feuerwehr-hohen.de
SUMMARY:Blumenpflanzaktion
DESCRIPTION:Die Vereine der Ortschaft Hohenaverbergen laden ein\, zu einer gemeinsamen Blumenpflanzaktion um das Dorf zu verschönern und Blumenzwiebeln für einen bunten Frühling zu Pflanzen. \nDie Pflanzaktion beginnt mit einem gemeinsamen Frühstück auf dem Dorfplatz. Eine Anmeldung ist erforderlich.
URL:https://feuerwehr-hohen.de/event/blumenpflanzaktion/
LOCATION:Dorfplatz Hohenaverbergen\, 27308
CATEGORIES:Förderverein,Gesamte Ortsfeuerwehr
END:VEVENT
BEGIN:VEVENT
DTSTART;TZID=Europe/Berlin:20251109T100000
DTEND;TZID=Europe/Berlin:20251109T140000
DTSTAMP:20260420T124133
CREATED:20250516T173304Z
LAST-MODIFIED:20250516T173304Z
UID:1857-1762682400-1762696800@feuerwehr-hohen.de
SUMMARY:Quiztunier JF
DESCRIPTION:
URL:https://feuerwehr-hohen.de/event/quiztunier/
LOCATION:Feuerwehrhaus Hohenaverbergen\, Scheperdrift\, Hohenaverbergen\, Niedersachsen\, 27308\, Deutschland
CATEGORIES:Jugendfeuerwehr
END:VEVENT
BEGIN:VEVENT
DTSTART;TZID=Europe/Berlin:20251114T180000
DTEND;TZID=Europe/Berlin:20251114T200000
DTSTAMP:20260420T124133
CREATED:20250516T173354Z
LAST-MODIFIED:20250516T173354Z
UID:1859-1763143200-1763150400@feuerwehr-hohen.de
SUMMARY:Übungsdienst JF
DESCRIPTION:Die JF trifft sich um 18.00 Uhr am Feuerwehrhaus Scheperdrift\, zum Übungsdienst
URL:https://feuerwehr-hohen.de/event/uebungsdienst-jf-11/
LOCATION:Feuerwehrhaus Hohenaverbergen\, Scheperdrift\, Hohenaverbergen\, Niedersachsen\, 27308\, Deutschland
CATEGORIES:Jugendfeuerwehr
END:VEVENT
BEGIN:VEVENT
DTSTART;TZID=Europe/Berlin:20251116T131500
DTEND;TZID=Europe/Berlin:20251116T141500
DTSTAMP:20260420T124133
CREATED:20250515T172218Z
LAST-MODIFIED:20250515T172218Z
UID:1793-1763298900-1763302500@feuerwehr-hohen.de
SUMMARY:Gedenkfeier zum Volkstrauertag in der Kappel des Friedhofs
DESCRIPTION:Gedenken zum Volkstrauertag. Treffen zum Gottesdienst ist um 13.15 an der Luther Eiche in Hohenaverbergen
URL:https://feuerwehr-hohen.de/event/gedenkfeier-zum-volkstrauertag-in-der-kappel-des-friedhofs/
LOCATION:Friedhof mit Friedhofskapelle Hohenaverbergen\, Heisterweg\, Kirchlinteln (Hohenaverbergen)\, Niedersachsen\, 27308\, Deutschland
CATEGORIES:Gesamte Ortsfeuerwehr
END:VEVENT
BEGIN:VEVENT
DTSTART;TZID=Europe/Berlin:20251128T180000
DTEND;TZID=Europe/Berlin:20251128T200000
DTSTAMP:20260420T124133
CREATED:20250516T173451Z
LAST-MODIFIED:20250516T173451Z
UID:1861-1764352800-1764360000@feuerwehr-hohen.de
SUMMARY:Übungsdienst JF
DESCRIPTION:Die JF trifft sich um 18.00 Uhr am Feuerwehrhaus Scheperdrift\, zum Übungsdienst
URL:https://feuerwehr-hohen.de/event/uebungsdienst-jf-12/
LOCATION:Feuerwehrhaus Hohenaverbergen\, Scheperdrift\, Hohenaverbergen\, Niedersachsen\, 27308\, Deutschland
CATEGORIES:Jugendfeuerwehr
END:VEVENT
END:VCALENDAR