BEGIN:VCALENDAR
VERSION:2.0
PRODID:-//Feuerwehr Hohenaverbergen - ECPv6.15.20//NONSGML v1.0//EN
CALSCALE:GREGORIAN
METHOD:PUBLISH
X-ORIGINAL-URL:https://feuerwehr-hohen.de
X-WR-CALDESC:Veranstaltungen für Feuerwehr Hohenaverbergen
REFRESH-INTERVAL;VALUE=DURATION:PT1H
X-Robots-Tag:noindex
X-PUBLISHED-TTL:PT1H
BEGIN:VTIMEZONE
TZID:Europe/Berlin
BEGIN:DAYLIGHT
TZOFFSETFROM:+0100
TZOFFSETTO:+0200
TZNAME:CEST
DTSTART:20240331T010000
END:DAYLIGHT
BEGIN:STANDARD
TZOFFSETFROM:+0200
TZOFFSETTO:+0100
TZNAME:CET
DTSTART:20241027T010000
END:STANDARD
BEGIN:DAYLIGHT
TZOFFSETFROM:+0100
TZOFFSETTO:+0200
TZNAME:CEST
DTSTART:20250330T010000
END:DAYLIGHT
BEGIN:STANDARD
TZOFFSETFROM:+0200
TZOFFSETTO:+0100
TZNAME:CET
DTSTART:20251026T010000
END:STANDARD
BEGIN:DAYLIGHT
TZOFFSETFROM:+0100
TZOFFSETTO:+0200
TZNAME:CEST
DTSTART:20260329T010000
END:DAYLIGHT
BEGIN:STANDARD
TZOFFSETFROM:+0200
TZOFFSETTO:+0100
TZNAME:CET
DTSTART:20261025T010000
END:STANDARD
END:VTIMEZONE
BEGIN:VEVENT
DTSTART;TZID=Europe/Berlin:20250804T193000
DTEND;TZID=Europe/Berlin:20250804T210000
DTSTAMP:20260420T171927
CREATED:20250515T171718Z
LAST-MODIFIED:20250515T171718Z
UID:1782-1754335800-1754341200@feuerwehr-hohen.de
SUMMARY:Übungsdienst Einsatzabteilung
DESCRIPTION:Die gesamte Einsatzabteilung trifft sich zum Dienst am Feuerwehrhaus im Scheperdrift 1\, Start ist um 19:30 Uhr
URL:https://feuerwehr-hohen.de/event/uebungsdienst-3/
LOCATION:Feuerwehrhaus Hohenaverbergen\, Scheperdrift\, Hohenaverbergen\, Niedersachsen\, 27308\, Deutschland
CATEGORIES:Einsatzabteilung
END:VEVENT
BEGIN:VEVENT
DTSTART;TZID=Europe/Berlin:20250815T180000
DTEND;TZID=Europe/Berlin:20250815T200000
DTSTAMP:20260420T171927
CREATED:20250516T171922Z
LAST-MODIFIED:20250516T171922Z
UID:1843-1755280800-1755288000@feuerwehr-hohen.de
SUMMARY:Übungsdienst JF
DESCRIPTION:Die JF trifft sich um 18.00 Uhr am Feuerwehrhaus Scheperdrift\, zum Übungsdienst
URL:https://feuerwehr-hohen.de/event/uebungsdienst-jf-7/
LOCATION:Feuerwehrhaus Hohenaverbergen\, Scheperdrift\, Hohenaverbergen\, Niedersachsen\, 27308\, Deutschland
CATEGORIES:Jugendfeuerwehr
END:VEVENT
BEGIN:VEVENT
DTSTART;TZID=Europe/Berlin:20250817T000000
DTEND;TZID=Europe/Berlin:20250817T235959
DTSTAMP:20260420T171927
CREATED:20250516T172135Z
LAST-MODIFIED:20250516T172135Z
UID:1845-1755388800-1755475199@feuerwehr-hohen.de
SUMMARY:Kreis-Spielen ohne Grenzen in Bassen
DESCRIPTION:Die JF nimmt am Kreis-Spiel ohne Grenzen in Bassen teil
URL:https://feuerwehr-hohen.de/event/kreis-spielen-ohne-grenzen-in-bassen/
LOCATION:Niedersachsen
CATEGORIES:Jugendfeuerwehr
END:VEVENT
BEGIN:VEVENT
DTSTART;TZID=Europe/Berlin:20250829T170000
DTEND;TZID=Europe/Berlin:20250830T110000
DTSTAMP:20260420T171927
CREATED:20250516T174100Z
LAST-MODIFIED:20250516T174100Z
UID:1847-1756486800-1756551600@feuerwehr-hohen.de
SUMMARY:Berufs-Feuerwehrtag JF
DESCRIPTION:
URL:https://feuerwehr-hohen.de/event/berufs-feuerwehrtag/
LOCATION:Feuerwehrhaus Hohenaverbergen\, Scheperdrift\, Hohenaverbergen\, Niedersachsen\, 27308\, Deutschland
CATEGORIES:Jugendfeuerwehr
END:VEVENT
END:VCALENDAR