BEGIN:VCALENDAR
VERSION:2.0
PRODID:-//Feuerwehr Hohenaverbergen - ECPv6.15.20//NONSGML v1.0//EN
CALSCALE:GREGORIAN
METHOD:PUBLISH
X-ORIGINAL-URL:https://feuerwehr-hohen.de
X-WR-CALDESC:Veranstaltungen für Feuerwehr Hohenaverbergen
REFRESH-INTERVAL;VALUE=DURATION:PT1H
X-Robots-Tag:noindex
X-PUBLISHED-TTL:PT1H
BEGIN:VTIMEZONE
TZID:Europe/Berlin
BEGIN:DAYLIGHT
TZOFFSETFROM:+0100
TZOFFSETTO:+0200
TZNAME:CEST
DTSTART:20240331T010000
END:DAYLIGHT
BEGIN:STANDARD
TZOFFSETFROM:+0200
TZOFFSETTO:+0100
TZNAME:CET
DTSTART:20241027T010000
END:STANDARD
BEGIN:DAYLIGHT
TZOFFSETFROM:+0100
TZOFFSETTO:+0200
TZNAME:CEST
DTSTART:20250330T010000
END:DAYLIGHT
BEGIN:STANDARD
TZOFFSETFROM:+0200
TZOFFSETTO:+0100
TZNAME:CET
DTSTART:20251026T010000
END:STANDARD
BEGIN:DAYLIGHT
TZOFFSETFROM:+0100
TZOFFSETTO:+0200
TZNAME:CEST
DTSTART:20260329T010000
END:DAYLIGHT
BEGIN:STANDARD
TZOFFSETFROM:+0200
TZOFFSETTO:+0100
TZNAME:CET
DTSTART:20261025T010000
END:STANDARD
END:VTIMEZONE
BEGIN:VEVENT
DTSTART;TZID=Europe/Berlin:20250606T180000
DTEND;TZID=Europe/Berlin:20250606T200000
DTSTAMP:20260420T203043
CREATED:20250516T170838Z
LAST-MODIFIED:20250516T170838Z
UID:1832-1749232800-1749240000@feuerwehr-hohen.de
SUMMARY:Übungsdienst JF
DESCRIPTION:Die JF trifft sich um 18.00 Uhr am Feuerwehrhaus Scheperdrift\, um sich auf die Wettbewerbe vorzubereiten
URL:https://feuerwehr-hohen.de/event/uebungsdienst-jf-4/
LOCATION:Feuerwehrhaus Hohenaverbergen\, Scheperdrift\, Hohenaverbergen\, Niedersachsen\, 27308\, Deutschland
CATEGORIES:Jugendfeuerwehr
END:VEVENT
BEGIN:VEVENT
DTSTART;TZID=Europe/Berlin:20250613T180000
DTEND;TZID=Europe/Berlin:20250613T200000
DTSTAMP:20260420T203043
CREATED:20250516T170923Z
LAST-MODIFIED:20250516T170923Z
UID:1834-1749837600-1749844800@feuerwehr-hohen.de
SUMMARY:Übungsdienst JF
DESCRIPTION:Die JF trifft sich um 18.00 Uhr am Feuerwehrhaus Scheperdrift\, um sich auf die Wettbewerbe vorzubereiten
URL:https://feuerwehr-hohen.de/event/uebungsdienst-jf-5/
LOCATION:Feuerwehrhaus Hohenaverbergen\, Scheperdrift\, Hohenaverbergen\, Niedersachsen\, 27308\, Deutschland
CATEGORIES:Jugendfeuerwehr
END:VEVENT
BEGIN:VEVENT
DTSTART;TZID=Europe/Berlin:20250614T110000
DTEND;TZID=Europe/Berlin:20250614T160000
DTSTAMP:20260420T203043
CREATED:20250515T171322Z
LAST-MODIFIED:20250515T171322Z
UID:1777-1749898800-1749916800@feuerwehr-hohen.de
SUMMARY:Gemeindefeuerwehrtag in Armsen
DESCRIPTION:Am 14.06.2025 findet der Gemeindefeuerwehrtag der Orts- und Jugendfeuerwehren der Gemeinde Kirchlinteln in Armsen auf dem Sportplatz von 11.00 Uhr bis 16.00 Uhr statt. \nFür das leibliche wohl ist gesorgt. Es wird Nackensteak im Brötchen\, Bratwurst und Pommes sowie Kaffee und Kuchen geben.
URL:https://feuerwehr-hohen.de/event/gemeindefeuerwehrtag-in-armsen/
LOCATION:27308 Armsen\, Zum Sportplatz\, Zum Sportplatz\, Armsen\, 27308\, Germany
CATEGORIES:Gesamte Ortsfeuerwehr,Jugendfeuerwehr,Wettbewerbsgruppe
END:VEVENT
BEGIN:VEVENT
DTSTART;TZID=Europe/Berlin:20250615T100000
DTEND;TZID=Europe/Berlin:20250615T170000
DTSTAMP:20260420T203043
CREATED:20250516T171301Z
LAST-MODIFIED:20250516T171301Z
UID:1837-1749981600-1750006800@feuerwehr-hohen.de
SUMMARY:Kreiswettbewerbe der JF
DESCRIPTION:Am 15.06.2025 findet der Kreisfeuerwehrtag der Jugendfeuerwehren in Kirchlinteln (Schule) von 10.00 Uhr bis 17.00 Uhr statt.
URL:https://feuerwehr-hohen.de/event/kreiswettbewerbe-der-jf/
LOCATION:Schulstraße 3\, 27308 Kirchlinteln\, Schulstraße 3\, 27283 Kirchlinteln\, Kirchlinteln\, 27283\, Germany
CATEGORIES:Jugendfeuerwehr
END:VEVENT
BEGIN:VEVENT
DTSTART;TZID=Europe/Berlin:20250627T180000
DTEND;TZID=Europe/Berlin:20250627T200000
DTSTAMP:20260420T203043
CREATED:20250516T171415Z
LAST-MODIFIED:20250516T171415Z
UID:1839-1751047200-1751054400@feuerwehr-hohen.de
SUMMARY:Übungsdienst JF
DESCRIPTION:Die JF trifft sich um 18.00 Uhr am Feuerwehrhaus Scheperdrift\, zum Übungsdienst
URL:https://feuerwehr-hohen.de/event/uebungsdienst-jf-6/
LOCATION:Feuerwehrhaus Hohenaverbergen\, Scheperdrift\, Hohenaverbergen\, Niedersachsen\, 27308\, Deutschland
CATEGORIES:Jugendfeuerwehr
END:VEVENT
END:VCALENDAR