BEGIN:VCALENDAR
VERSION:2.0
PRODID:-//Feuerwehr Hohenaverbergen - ECPv6.15.20//NONSGML v1.0//EN
CALSCALE:GREGORIAN
METHOD:PUBLISH
X-WR-CALNAME:Feuerwehr Hohenaverbergen
X-ORIGINAL-URL:https://feuerwehr-hohen.de
X-WR-CALDESC:Veranstaltungen für Feuerwehr Hohenaverbergen
REFRESH-INTERVAL;VALUE=DURATION:PT1H
X-Robots-Tag:noindex
X-PUBLISHED-TTL:PT1H
BEGIN:VTIMEZONE
TZID:Europe/Berlin
BEGIN:DAYLIGHT
TZOFFSETFROM:+0100
TZOFFSETTO:+0200
TZNAME:CEST
DTSTART:20220327T010000
END:DAYLIGHT
BEGIN:STANDARD
TZOFFSETFROM:+0200
TZOFFSETTO:+0100
TZNAME:CET
DTSTART:20221030T010000
END:STANDARD
BEGIN:DAYLIGHT
TZOFFSETFROM:+0100
TZOFFSETTO:+0200
TZNAME:CEST
DTSTART:20230326T010000
END:DAYLIGHT
BEGIN:STANDARD
TZOFFSETFROM:+0200
TZOFFSETTO:+0100
TZNAME:CET
DTSTART:20231029T010000
END:STANDARD
BEGIN:DAYLIGHT
TZOFFSETFROM:+0100
TZOFFSETTO:+0200
TZNAME:CEST
DTSTART:20240331T010000
END:DAYLIGHT
BEGIN:STANDARD
TZOFFSETFROM:+0200
TZOFFSETTO:+0100
TZNAME:CET
DTSTART:20241027T010000
END:STANDARD
END:VTIMEZONE
BEGIN:VEVENT
DTSTART;TZID=Europe/Berlin:20231103T180000
DTEND;TZID=Europe/Berlin:20231103T200000
DTSTAMP:20260425T123012
CREATED:20230207T201620Z
LAST-MODIFIED:20230207T201620Z
UID:1345-1699034400-1699041600@feuerwehr-hohen.de
SUMMARY:Jugendfeuerwehr – Dienst
DESCRIPTION:
URL:https://feuerwehr-hohen.de/event/jugendfeuerwehr-dienst-17/
LOCATION:Feuerwehrhaus Hohenaverbergen\, Scheperdrift\, Hohenaverbergen\, Niedersachsen\, 27308\, Deutschland
CATEGORIES:Jugendfeuerwehr
ORGANIZER;CN="Jugendfeuerwehr Hohenaverbergen":MAILTO:jugendfeuerwehr@feuerwehr-hohen.de
END:VEVENT
BEGIN:VEVENT
DTSTART;TZID=Europe/Berlin:20231105T100000
DTEND;TZID=Europe/Berlin:20231105T120000
DTSTAMP:20260425T123012
CREATED:20230201T185438Z
LAST-MODIFIED:20230201T185438Z
UID:1267-1699178400-1699185600@feuerwehr-hohen.de
SUMMARY:Begehung gefährdeter Objekte
DESCRIPTION:
URL:https://feuerwehr-hohen.de/event/begehung-gefaehrdeter-objekte/
LOCATION:Feuerwehrhaus Hohenaverbergen\, Scheperdrift\, Hohenaverbergen\, Niedersachsen\, 27308\, Deutschland
CATEGORIES:Einsatzabteilung
END:VEVENT
BEGIN:VEVENT
DTSTART;TZID=Europe/Berlin:20231117T180000
DTEND;TZID=Europe/Berlin:20231117T200000
DTSTAMP:20260425T123012
CREATED:20230207T201710Z
LAST-MODIFIED:20230207T201710Z
UID:1347-1700244000-1700251200@feuerwehr-hohen.de
SUMMARY:Jugendfeuerwehr – Dienst
DESCRIPTION:
URL:https://feuerwehr-hohen.de/event/jugendfeuerwehr-dienst-18/
LOCATION:Feuerwehrhaus Hohenaverbergen\, Scheperdrift\, Hohenaverbergen\, Niedersachsen\, 27308\, Deutschland
CATEGORIES:Jugendfeuerwehr
ORGANIZER;CN="Jugendfeuerwehr Hohenaverbergen":MAILTO:jugendfeuerwehr@feuerwehr-hohen.de
END:VEVENT
BEGIN:VEVENT
DTSTART;TZID=Europe/Berlin:20231119T131500
DTEND;TZID=Europe/Berlin:20231119T141500
DTSTAMP:20260425T123012
CREATED:20230201T185650Z
LAST-MODIFIED:20230201T185650Z
UID:1269-1700399700-1700403300@feuerwehr-hohen.de
SUMMARY:Gedenkfeier zum Volkstrauertag
DESCRIPTION:
URL:https://feuerwehr-hohen.de/event/gedenkfeier-zum-volkstrauertag/
LOCATION:Friedhof mit Friedhofskapelle Hohenaverbergen\, Heisterweg\, Kirchlinteln (Hohenaverbergen)\, Niedersachsen\, 27308\, Deutschland
CATEGORIES:Gesamte Ortsfeuerwehr,Öffentlich
END:VEVENT
END:VCALENDAR