BEGIN:VCALENDAR
VERSION:2.0
PRODID:-//Feuerwehr Hohenaverbergen - ECPv6.15.20//NONSGML v1.0//EN
CALSCALE:GREGORIAN
METHOD:PUBLISH
X-WR-CALNAME:Feuerwehr Hohenaverbergen
X-ORIGINAL-URL:https://feuerwehr-hohen.de
X-WR-CALDESC:Veranstaltungen für Feuerwehr Hohenaverbergen
REFRESH-INTERVAL;VALUE=DURATION:PT1H
X-Robots-Tag:noindex
X-PUBLISHED-TTL:PT1H
BEGIN:VTIMEZONE
TZID:Europe/Berlin
BEGIN:DAYLIGHT
TZOFFSETFROM:+0100
TZOFFSETTO:+0200
TZNAME:CEST
DTSTART:20220327T010000
END:DAYLIGHT
BEGIN:STANDARD
TZOFFSETFROM:+0200
TZOFFSETTO:+0100
TZNAME:CET
DTSTART:20221030T010000
END:STANDARD
BEGIN:DAYLIGHT
TZOFFSETFROM:+0100
TZOFFSETTO:+0200
TZNAME:CEST
DTSTART:20230326T010000
END:DAYLIGHT
BEGIN:STANDARD
TZOFFSETFROM:+0200
TZOFFSETTO:+0100
TZNAME:CET
DTSTART:20231029T010000
END:STANDARD
BEGIN:DAYLIGHT
TZOFFSETFROM:+0100
TZOFFSETTO:+0200
TZNAME:CEST
DTSTART:20240331T010000
END:DAYLIGHT
BEGIN:STANDARD
TZOFFSETFROM:+0200
TZOFFSETTO:+0100
TZNAME:CET
DTSTART:20241027T010000
END:STANDARD
END:VTIMEZONE
BEGIN:VEVENT
DTSTART;TZID=Europe/Berlin:20230926T193000
DTEND;TZID=Europe/Berlin:20230926T213000
DTSTAMP:20260425T172752
CREATED:20230201T185145Z
LAST-MODIFIED:20230201T185145Z
UID:1261-1695756600-1695763800@feuerwehr-hohen.de
SUMMARY:Truppmann Teil II Ausbildung
DESCRIPTION:
URL:https://feuerwehr-hohen.de/event/truppmann-teil-ii-ausbildung-6/
LOCATION:Feuerwehrhaus Hohenaverbergen\, Scheperdrift\, Hohenaverbergen\, Niedersachsen\, 27308\, Deutschland
CATEGORIES:Einsatzabteilung
END:VEVENT
END:VCALENDAR